BEGIN:VCALENDAR
VERSION:2.0
PRODID:-//MISI Community Solutions - ECPv6.15.20//NONSGML v1.0//EN
CALSCALE:GREGORIAN
METHOD:PUBLISH
X-WR-CALNAME:MISI Community Solutions
X-ORIGINAL-URL:https://myisi.net
X-WR-CALDESC:Events for MISI Community Solutions
REFRESH-INTERVAL;VALUE=DURATION:PT1H
X-Robots-Tag:noindex
X-PUBLISHED-TTL:PT1H
BEGIN:VTIMEZONE
TZID:America/Los_Angeles
BEGIN:DAYLIGHT
TZOFFSETFROM:-0800
TZOFFSETTO:-0700
TZNAME:PDT
DTSTART:20250309T100000
END:DAYLIGHT
BEGIN:STANDARD
TZOFFSETFROM:-0700
TZOFFSETTO:-0800
TZNAME:PST
DTSTART:20251102T090000
END:STANDARD
BEGIN:DAYLIGHT
TZOFFSETFROM:-0800
TZOFFSETTO:-0700
TZNAME:PDT
DTSTART:20260308T100000
END:DAYLIGHT
BEGIN:STANDARD
TZOFFSETFROM:-0700
TZOFFSETTO:-0800
TZNAME:PST
DTSTART:20261101T090000
END:STANDARD
BEGIN:DAYLIGHT
TZOFFSETFROM:-0800
TZOFFSETTO:-0700
TZNAME:PDT
DTSTART:20270314T100000
END:DAYLIGHT
BEGIN:STANDARD
TZOFFSETFROM:-0700
TZOFFSETTO:-0800
TZNAME:PST
DTSTART:20271107T090000
END:STANDARD
END:VTIMEZONE
BEGIN:VEVENT
DTSTART;TZID=America/Los_Angeles:20260425T110000
DTEND;TZID=America/Los_Angeles:20260425T150000
DTSTAMP:20260424T073857
CREATED:20260414T162722Z
LAST-MODIFIED:20260414T162722Z
UID:9396-1777114800-1777129200@myisi.net
SUMMARY:Kids Day
DESCRIPTION:
URL:https://myisi.net/event/kids-day/
LOCATION:Hagan Community Park\, 2197 Chase Dr\, Rancho Cordova\, CA\, 95670\, United States
ATTACH;FMTTYPE=image/jpeg:https://myisi.net/wp-content/uploads/2026/04/695d73281bfc63eb7d085feb-e1776184036763.jpg
END:VEVENT
BEGIN:VEVENT
DTSTART;TZID=America/Los_Angeles:20260426T110000
DTEND;TZID=America/Los_Angeles:20260426T160000
DTSTAMP:20260424T073857
CREATED:20260410T192801Z
LAST-MODIFIED:20260410T193122Z
UID:9367-1777201200-1777219200@myisi.net
SUMMARY:Sacramento Earth Day
DESCRIPTION:
URL:https://myisi.net/event/sacramento-earth-day/
LOCATION:Southside Park Stage\, 700 T St\, Sacramento\, CA\, 95818\, United States
ATTACH;FMTTYPE=image/jpeg:https://myisi.net/wp-content/uploads/2026/04/2026-Sacramento-Earth-Day-flyer-PNG-1-582x900-1-e1775849477689.jpg
END:VEVENT
BEGIN:VEVENT
DTSTART;TZID=America/Los_Angeles:20260429T100000
DTEND;TZID=America/Los_Angeles:20260429T120000
DTSTAMP:20260424T073857
CREATED:20260410T183843Z
LAST-MODIFIED:20260422T202730Z
UID:9357-1777456800-1777464000@myisi.net
SUMMARY:Job & Resource Fair
DESCRIPTION:
URL:https://myisi.net/event/job-resource-fair-april-29/
LOCATION:Midtown Church Sacramento Campus\, 2225 19th St\, Sacramento\, CA\, 95818\, United States
ATTACH;FMTTYPE=image/jpeg:https://myisi.net/wp-content/uploads/2026/04/April-Job-Fair-Flyer-Final-e1776889643182.jpg
ORGANIZER;CN="Shelter.INC":MAILTO:shelter@SHELTERinc.org
END:VEVENT
BEGIN:VEVENT
DTSTART;TZID=America/Los_Angeles:20260501T100000
DTEND;TZID=America/Los_Angeles:20260501T120000
DTSTAMP:20260424T073857
CREATED:20260415T214948Z
LAST-MODIFIED:20260415T214948Z
UID:9417-1777629600-1777636800@myisi.net
SUMMARY:Empowering Tomorrow's Leaders
DESCRIPTION:
URL:https://myisi.net/event/empowering-tomorrows-leaders/
LOCATION:Lucid Service Center Rocklin\, 4425 Granite Dr\, Rocklin\, CA\, 95677\, United States
ATTACH;FMTTYPE=image/jpeg:https://myisi.net/wp-content/uploads/2026/04/NEW-LUCID-MISI-Event-Flyer-scaled-e1776289751475.jpg
ORGANIZER;CN="MISI Community Solutions":MAILTO:office@myisi.net
END:VEVENT
BEGIN:VEVENT
DTSTART;TZID=America/Los_Angeles:20260516T120000
DTEND;TZID=America/Los_Angeles:20260516T180000
DTSTAMP:20260424T073857
CREATED:20260410T184344Z
LAST-MODIFIED:20260410T193035Z
UID:9362-1778932800-1778954400@myisi.net
SUMMARY:Yarmarka 2026
DESCRIPTION:
URL:https://myisi.net/event/yarmarka-2026/
LOCATION:Southside Park Playground\, 2115 8th St\, Sacramento\, CA\, 95818\, United States
ATTACH;FMTTYPE=image/jpeg:https://myisi.net/wp-content/uploads/2026/04/655001795_1511515554349571_3365290264741998176_n-e1775849431615.jpg
ORGANIZER;CN="Afisha Media Group":MAILTO:marketing@afishamedia.com
END:VEVENT
BEGIN:VEVENT
DTSTART;TZID=America/Los_Angeles:20260523T100000
DTEND;TZID=America/Los_Angeles:20260523T160000
DTSTAMP:20260424T073857
CREATED:20260219T202804Z
LAST-MODIFIED:20260219T202804Z
UID:9042-1779530400-1779552000@myisi.net
SUMMARY:International Kids Festival
DESCRIPTION:
URL:https://myisi.net/event/international-kids-festival/
LOCATION:William Land Regional Park\, 3901 Land Park Dr\, Sacramento\, CA\, 95822\, United States
ATTACH;FMTTYPE=image/jpeg:https://myisi.net/wp-content/uploads/2026/02/WhatsApp-Image-2026-02-10-at-14.30.09-e1771532872514.jpeg
ORGANIZER;CN="Council for Cross Cultural Affairs":MAILTO:info@c4cca.org
END:VEVENT
BEGIN:VEVENT
DTSTART;TZID=America/Los_Angeles:20260530T160000
DTEND;TZID=America/Los_Angeles:20260530T200000
DTSTAMP:20260424T073857
CREATED:20260410T210159Z
LAST-MODIFIED:20260410T210159Z
UID:9372-1780156800-1780171200@myisi.net
SUMMARY:Africa Day 2026
DESCRIPTION:
URL:https://myisi.net/event/africa-day-2026/
LOCATION:North Natomas Regional Park\, 2501 New Market Dr\, Sacramento\, CA\, 95835\, United States
ATTACH;FMTTYPE=image/png:https://myisi.net/wp-content/uploads/2026/04/8eeb7ae8-22f1-4e8b-8cc9-59dcd2f581e2-e1775854909927.png
END:VEVENT
BEGIN:VEVENT
DTSTART;TZID=America/Los_Angeles:20260620T160000
DTEND;TZID=America/Los_Angeles:20260620T210000
DTSTAMP:20260424T073857
CREATED:20260414T163610Z
LAST-MODIFIED:20260414T163610Z
UID:9400-1781971200-1781989200@myisi.net
SUMMARY:Juneteenth
DESCRIPTION:
URL:https://myisi.net/event/juneteenth-2026/
LOCATION:35th St\, 35th St\, Sacramento\, CA\, 95817\, United States
ATTACH;FMTTYPE=image/webp:https://myisi.net/wp-content/uploads/2026/04/juneteenthe2026.social-03.webp
ORGANIZER;CN="St. HOPE":MAILTO:info@sthope.org
END:VEVENT
BEGIN:VEVENT
DTSTART;TZID=America/Los_Angeles:20260808T090000
DTEND;TZID=America/Los_Angeles:20260808T120000
DTSTAMP:20260424T073857
CREATED:20260414T175113Z
LAST-MODIFIED:20260414T175113Z
UID:9407-1786179600-1786190400@myisi.net
SUMMARY:Back-to-School Resource Fair
DESCRIPTION:
URL:https://myisi.net/event/back-to-school-resource-fair/
LOCATION:Lincoln High School\, 790 J St\, Lincoln\, CA\, 95648\, United States
ATTACH;FMTTYPE=image/jpeg:https://myisi.net/wp-content/uploads/2026/04/Back-to-School-Resource-Fair-Flyer-2026-ENG-SPAN-2_Page_1-e1776189067621.jpg
END:VEVENT
END:VCALENDAR