BEGIN:VCALENDAR
VERSION:2.0
PRODID:-//MISI Community Solutions - ECPv6.15.20//NONSGML v1.0//EN
CALSCALE:GREGORIAN
METHOD:PUBLISH
X-ORIGINAL-URL:https://myisi.net
X-WR-CALDESC:Events for MISI Community Solutions
REFRESH-INTERVAL;VALUE=DURATION:PT1H
X-Robots-Tag:noindex
X-PUBLISHED-TTL:PT1H
BEGIN:VTIMEZONE
TZID:America/Los_Angeles
BEGIN:DAYLIGHT
TZOFFSETFROM:-0800
TZOFFSETTO:-0700
TZNAME:PDT
DTSTART:20240310T100000
END:DAYLIGHT
BEGIN:STANDARD
TZOFFSETFROM:-0700
TZOFFSETTO:-0800
TZNAME:PST
DTSTART:20241103T090000
END:STANDARD
BEGIN:DAYLIGHT
TZOFFSETFROM:-0800
TZOFFSETTO:-0700
TZNAME:PDT
DTSTART:20250309T100000
END:DAYLIGHT
BEGIN:STANDARD
TZOFFSETFROM:-0700
TZOFFSETTO:-0800
TZNAME:PST
DTSTART:20251102T090000
END:STANDARD
BEGIN:DAYLIGHT
TZOFFSETFROM:-0800
TZOFFSETTO:-0700
TZNAME:PDT
DTSTART:20260308T100000
END:DAYLIGHT
BEGIN:STANDARD
TZOFFSETFROM:-0700
TZOFFSETTO:-0800
TZNAME:PST
DTSTART:20261101T090000
END:STANDARD
BEGIN:DAYLIGHT
TZOFFSETFROM:-0800
TZOFFSETTO:-0700
TZNAME:PDT
DTSTART:20270314T100000
END:DAYLIGHT
BEGIN:STANDARD
TZOFFSETFROM:-0700
TZOFFSETTO:-0800
TZNAME:PST
DTSTART:20271107T090000
END:STANDARD
END:VTIMEZONE
BEGIN:VEVENT
DTSTART;TZID=America/Los_Angeles:20251105T110000
DTEND;TZID=America/Los_Angeles:20251105T150000
DTSTAMP:20260424T195653
CREATED:20251008T220847Z
LAST-MODIFIED:20251008T220847Z
UID:7848-1762340400-1762354800@myisi.net
SUMMARY:Community Health in Action Job & Resource Fair
DESCRIPTION:
URL:https://myisi.net/event/community-health-in-action-job-resource-fair/
LOCATION:Fruitridge Community Collaborative\, 4625 44th\, Sacramento\, CA\, 95820\, United States
ATTACH;FMTTYPE=image/png:https://myisi.net/wp-content/uploads/2025/10/CHIP-Fair-Flyer-w-Logos-1-e1759961277491.png
END:VEVENT
BEGIN:VEVENT
DTSTART;TZID=America/Los_Angeles:20251106T090000
DTEND;TZID=America/Los_Angeles:20251106T120000
DTSTAMP:20260424T195653
CREATED:20251105T182901Z
LAST-MODIFIED:20251105T182901Z
UID:8218-1762419600-1762430400@myisi.net
SUMMARY:Annual Senior Resource Fair
DESCRIPTION:
URL:https://myisi.net/event/annual-senior-resource-fair/
LOCATION:Senior Center\, 777 Ainsley Avenue\, Yuba City\, CA\, 95991\, United States
ATTACH;FMTTYPE=image/jpeg:https://myisi.net/wp-content/uploads/2025/11/Resource-Fair-Flyer-2025-1-e1762367332694.jpg
END:VEVENT
BEGIN:VEVENT
DTSTART;TZID=America/Los_Angeles:20251107T140000
DTEND;TZID=America/Los_Angeles:20251107T180000
DTSTAMP:20260424T195653
CREATED:20251105T183254Z
LAST-MODIFIED:20251105T183254Z
UID:8227-1762524000-1762538400@myisi.net
SUMMARY:Seeds of Strength Family Resource Fair
DESCRIPTION:
URL:https://myisi.net/event/seeds-of-strength-family-resource-fair/
LOCATION:Hagan Community Park\, 2197 Chase Dr\, Rancho Cordova\, CA\, 95670\, United States
ATTACH;FMTTYPE=image/jpeg:https://myisi.net/wp-content/uploads/2025/11/Seeds-of-Strength-Family-Resource-Fair.pdf-e1762367567515.jpg
ORGANIZER;CN="MISI Community Solutions":MAILTO:office@myisi.net
END:VEVENT
BEGIN:VEVENT
DTSTART;TZID=America/Los_Angeles:20251108T120000
DTEND;TZID=America/Los_Angeles:20251108T150000
DTSTAMP:20260424T195653
CREATED:20251105T183817Z
LAST-MODIFIED:20251105T183817Z
UID:8232-1762603200-1762614000@myisi.net
SUMMARY:City of Goodness Picnic
DESCRIPTION:
URL:https://myisi.net/event/city-of-goodness-picnic/
LOCATION:Resurrection Church\, 5901 Lonetree Blvd\, Rocklin\, CA\, 95765\, United States
ATTACH;FMTTYPE=image/jpeg:https://myisi.net/wp-content/uploads/2025/11/WhatsApp-Image-2025-11-05-at-09.05.29-e1762367886203.jpeg
ORGANIZER;CN="MISI Community Solutions":MAILTO:office@myisi.net
END:VEVENT
BEGIN:VEVENT
DTSTART;TZID=America/Los_Angeles:20251118T100000
DTEND;TZID=America/Los_Angeles:20251118T170000
DTSTAMP:20260424T195653
CREATED:20251014T232858Z
LAST-MODIFIED:20251020T225950Z
UID:7904-1763460000-1763485200@myisi.net
SUMMARY:Afghan Support Center Community Resource Fair in Fresno
DESCRIPTION:
URL:https://myisi.net/event/7904/
LOCATION:Golden Palace Event Center\, 2625 W. Vassar Ave\, Fresno\, 93705\, United States
ATTACH;FMTTYPE=image/jpeg:https://myisi.net/wp-content/uploads/2025/10/Fresno2025_ASC_English_Flyer-e1760484489964.jpg
ORGANIZER;CN="Cherokee Federal":MAILTO:CFEDHR.Response@cherokee-federal.com
END:VEVENT
BEGIN:VEVENT
DTSTART;TZID=America/Los_Angeles:20251119T100000
DTEND;TZID=America/Los_Angeles:20251119T170000
DTSTAMP:20260424T195653
CREATED:20251014T233027Z
LAST-MODIFIED:20251020T225844Z
UID:7910-1763546400-1763571600@myisi.net
SUMMARY:Afghan Support Center Community Resource Fair in Fresno
DESCRIPTION:
URL:https://myisi.net/event/afghan-support-center-community-resource-fair-in-fresno/
LOCATION:Golden Palace Event Center\, 2625 W. Vassar Ave\, Fresno\, 93705\, United States
ATTACH;FMTTYPE=image/jpeg:https://myisi.net/wp-content/uploads/2025/10/Fresno2025_ASC_English_Flyer-e1760484489964.jpg
ORGANIZER;CN="Cherokee Federal":MAILTO:CFEDHR.Response@cherokee-federal.com
END:VEVENT
BEGIN:VEVENT
DTSTART;TZID=America/Los_Angeles:20251120T150000
DTEND;TZID=America/Los_Angeles:20251120T163000
DTSTAMP:20260424T195653
CREATED:20251020T231305Z
LAST-MODIFIED:20251020T231305Z
UID:8053-1763650800-1763656200@myisi.net
SUMMARY:Community Care Hub
DESCRIPTION:
URL:https://myisi.net/event/community-care-hub/
LOCATION:San Juan High School Cafeteria\, 7551 Greenback Ln\, Citrus Heights\, CA\, 95610\, United States
ATTACH;FMTTYPE=image/jpeg:https://myisi.net/wp-content/uploads/2025/10/FallCareHubsEngSp-1_Page_1-scaled-e1761001969322.jpg
ORGANIZER;CN="MISI Community Solutions":MAILTO:office@myisi.net
END:VEVENT
BEGIN:VEVENT
DTSTART;TZID=America/Los_Angeles:20251122T140000
DTEND;TZID=America/Los_Angeles:20251122T190000
DTSTAMP:20260424T195653
CREATED:20250908T173445Z
LAST-MODIFIED:20260416T224700Z
UID:6690-1763820000-1763838000@myisi.net
SUMMARY:Harvest of Hope
DESCRIPTION:Hosted by SPROUT\, powered by our partnership\n															\n															\n																														 \n What Is Harvest of Hope?\nEvery November\, we come together with friends\, partners\, and volunteers to support families in need ahead of Thanksgiving.\n“Harvest of Hope” is more than just a charitable event hosted by Sprout Organization and MISI Community Solutions. It’s a celebration of compassion\, joy\, and community unity made possible by generous sponsors\, local volunteers\, and committed partners. \n		https://myisi.net//wp-content/uploads/videos/Harvest.mov		 \nJoin Our Annual Festival of Giving\nand become a sponsor\, who changes lives.\n\n					\n				\n									Become a Sponsor or Booth Partner\n					 \nOur mission is simple:\nTo ensure that no family feels alone or forgotten during the holiday season.\nEvent Details\n\n\n							\n										November 22\, 2025\n									\n\n\n\n							\n										2:00 PM – 7:00 PM\n									\n\n\n\n											\n							\n										5948 Pecan Ave\, Orangevale\, CA 95662\n											\n									\n\nAt the Event\, Families Receive:\n \nFrozen turkeys and tasty dinners\n👨‍👩‍👧‍👦\nAccess to local  services and community resources\n🎈\nFun and safe   activities for children\n💬\nDirect connection   with organizations that care\nWhy It Matters\nFor many families\, Thanksgiving can be a time of financial stress and emotional hardship. Rising living costs\, job insecurity\, and life challenges can make even a simple meal feel out of reach. \nWhy Get Involved?\n\nSupport families in need during the holiday season\nStrengthen your connection with the local community\nPromote your brand or organization in a way that reflects kindness and careWhether you’re a small business\, corporate partner\, nonprofit\, or service provider\, your involvement makes a lasting impact.\n\nContact us today to learn more and reserve your spot:\nLet’s come together to make this Thanksgiving season brighter\, warmer\, and more joyful for every family we can reach. \nTogether\, we can make Harvest of Hope 2025 our most impactful tradition yet — one filled with compassion\, generosity\, and celebration. \n\n					\n									Become a Sponsor (for-profit)\n					 \n\n					\n									Become a Booth Partner (non-profit)\n					 \nA Look Back at 2024\n\n\nWe distributed 1\,000 frozen turkeys to families in need.\n\n\n															\n															\n																														 \n\n\nHundreds of children took part in fun games\, activities\, and seasonal treats\n\n\n															\n															\n															\n															\n																														 \n\n\nOver 30 dedicated volunteers helped bring the event to life\n\n\n															\n															\n															\n															\n																														 \n\n\n8 incredible partner organizations collaborated to make it all possible\n\n\n															\n															\n															\n															\n															\n																														 \nSpecial Thanks to Our 2024 Medical Care Plans Partners:\n															\n															\n																														 \nTheir partnership helped us reach more families and share more hope than ever before
URL:https://myisi.net/event/harvest-of-hope-community-event/
LOCATION:ParaSOLka\, 5948 Pecan Ave\, Orangevale\, CA\, 95662\, United States
ATTACH;FMTTYPE=image/jpeg:https://myisi.net/wp-content/uploads/2025/09/Harvest-Youtube-Cover.jpg
ORGANIZER;CN="MISI Community Solutions":MAILTO:office@myisi.net
END:VEVENT
BEGIN:VEVENT
DTSTART;TZID=America/Los_Angeles:20251204T173000
DTEND;TZID=America/Los_Angeles:20251204T190000
DTSTAMP:20260424T195653
CREATED:20251120T205921Z
LAST-MODIFIED:20251120T205921Z
UID:8321-1764869400-1764874800@myisi.net
SUMMARY:Navigating U.S. Immigration in 2025: Updates and Pathways for Ukrainians with Galina Doris
DESCRIPTION:
URL:https://myisi.net/event/navigating-u-s-immigration-in-2025-updates-and-pathways-for-ukrainians-with-galina-doris/
LOCATION:IRC Office\, 2020 Hurley Way #420\, Sacramento\, CA\, 95825\, United States
ATTACH;FMTTYPE=image/jpeg:https://myisi.net/wp-content/uploads/2025/11/IRC-wGalina-Dorris_Page_1-e1763672352284.jpg
ORGANIZER;CN="MISI Community Solutions":MAILTO:office@myisi.net
END:VEVENT
BEGIN:VEVENT
DTSTART;TZID=America/Los_Angeles:20251211T140000
DTEND;TZID=America/Los_Angeles:20251211T160000
DTSTAMP:20260424T195653
CREATED:20251120T205542Z
LAST-MODIFIED:20251120T205542Z
UID:8316-1765461600-1765468800@myisi.net
SUMMARY:Renters Helpline with IRC
DESCRIPTION:
URL:https://myisi.net/event/renters-helpline-with-irc/
LOCATION:IRC Office\, 2020 Hurley Way #420\, Sacramento\, CA\, 95825\, United States
ATTACH;FMTTYPE=image/jpeg:https://myisi.net/wp-content/uploads/2025/11/IRC-wRenters-Helpline_Page_1-e1763672133113.jpg
ORGANIZER;CN="MISI Community Solutions":MAILTO:office@myisi.net
END:VEVENT
BEGIN:VEVENT
DTSTART;TZID=America/Los_Angeles:20260121T100000
DTEND;TZID=America/Los_Angeles:20260121T120000
DTSTAMP:20260424T195653
CREATED:20260114T041313Z
LAST-MODIFIED:20260114T041313Z
UID:8808-1768989600-1768996800@myisi.net
SUMMARY:Job Fair and Resource Fair
DESCRIPTION:
URL:https://myisi.net/event/job-fair-and-resource-fair/
LOCATION:Midtown Church Sacramento Campus\, 2225 19th St\, Sacramento\, CA\, 95818\, United States
ATTACH;FMTTYPE=image/jpeg:https://myisi.net/wp-content/uploads/2026/01/1767910500414-e1768363984109.jpg
END:VEVENT
BEGIN:VEVENT
DTSTART;TZID=America/Los_Angeles:20260126T140000
DTEND;TZID=America/Los_Angeles:20260126T153000
DTSTAMP:20260424T195653
CREATED:20260114T040950Z
LAST-MODIFIED:20260114T040950Z
UID:8803-1769436000-1769441400@myisi.net
SUMMARY:Partnership Member Informative Session
DESCRIPTION:
URL:https://myisi.net/event/partnership-member-informative-session/
LOCATION:Health & Human Services Agency\, 137 N Cottonwood St\, Sacramento\, CA\, 95695\, United States
ATTACH;FMTTYPE=image/jpeg:https://myisi.net/wp-content/uploads/2026/01/WhatsApp-Image-2026-01-13-at-17.11.02-e1768363785578.jpeg
END:VEVENT
BEGIN:VEVENT
DTSTART;TZID=America/Los_Angeles:20260126T150000
DTEND;TZID=America/Los_Angeles:20260126T190000
DTSTAMP:20260424T195653
CREATED:20260114T040555Z
LAST-MODIFIED:20260114T040555Z
UID:8799-1769439600-1769454000@myisi.net
SUMMARY:2026 PIT COUNT EVENT and Resource Fair
DESCRIPTION:
URL:https://myisi.net/event/2026-pit-count-event-and-resource-fair/
LOCATION:The Creation District\, 1219 S St\, Sacramento\, CA\, 95811\, United States
ATTACH;FMTTYPE=image/png:https://myisi.net/wp-content/uploads/2026/01/EVERY-YOUTH-COUNTS-FLIER-PNG-e1768363546765.png
END:VEVENT
BEGIN:VEVENT
DTSTART;TZID=America/Los_Angeles:20260128T103000
DTEND;TZID=America/Los_Angeles:20260128T133000
DTSTAMP:20260424T195653
CREATED:20260128T013226Z
LAST-MODIFIED:20260128T013226Z
UID:8891-1769596200-1769607000@myisi.net
SUMMARY:Arden\, MISI Community Solutions Tabling at Emergency Food Distribution
DESCRIPTION:
URL:https://myisi.net/event/arden-misi-community-solutions-tabling-at-emergency-food-distribution/
LOCATION:River City Food Bank: 2025 Fall Health & Resource Fair\, 2300 Edison Ave\, Sacramento\, CA\, 95821\, United States
ATTACH;FMTTYPE=image/jpeg:https://myisi.net/wp-content/uploads/2026/01/Emergency-Food-Distribution-Flyer-1-1-scaled-e1769563622824.jpg
END:VEVENT
BEGIN:VEVENT
DTSTART;TZID=America/Los_Angeles:20260128T170000
DTEND;TZID=America/Los_Angeles:20260128T200000
DTSTAMP:20260424T195653
CREATED:20260112T205931Z
LAST-MODIFIED:20260112T205931Z
UID:8772-1769619600-1769630400@myisi.net
SUMMARY:The Gift of Giving GALA
DESCRIPTION:
URL:https://myisi.net/event/the-gift-of-giving-gala/
LOCATION:Del Paso Country Club\, 3333 Marconi Ave\, Sacramento\, CA\, 95821\, United States
ATTACH;FMTTYPE=image/jpeg:https://myisi.net/wp-content/uploads/2026/01/Gala-for-Web_1-2048x2048-1-e1768251543246.jpg
ORGANIZER;CN="MISI Community Solutions":MAILTO:office@myisi.net
END:VEVENT
BEGIN:VEVENT
DTSTART;TZID=America/Los_Angeles:20260129T103000
DTEND;TZID=America/Los_Angeles:20260129T133000
DTSTAMP:20260424T195653
CREATED:20260128T005144Z
LAST-MODIFIED:20260128T012844Z
UID:8880-1769682600-1769693400@myisi.net
SUMMARY:Midtown\, MISI Community Solutions Tabling at Emergency Food Distribution
DESCRIPTION:
URL:https://myisi.net/event/midtown-misi-community-solutions-tabling-at-emergency-food-distribution/
LOCATION:River City Food Bank\, 1800 28th St\, Sacramento\, 95816\, United States
ATTACH;FMTTYPE=image/jpeg:https://myisi.net/wp-content/uploads/2026/01/Emergency-Food-Distribution-Flyer-1-1-scaled-e1769563622824.jpg
END:VEVENT
BEGIN:VEVENT
DTSTART;TZID=America/Los_Angeles:20260131T110000
DTEND;TZID=America/Los_Angeles:20260131T150000
DTSTAMP:20260424T195653
CREATED:20260112T204347Z
LAST-MODIFIED:20260112T204347Z
UID:8757-1769857200-1769871600@myisi.net
SUMMARY:Green Leaf Swap Plant Celebration
DESCRIPTION:
URL:https://myisi.net/event/green-leaf-swap-plant-celebration/
LOCATION:Rainbow Park\, 6121 Martin Luther King Jr Blvd\, Sacramento\, CA\, 95824\, United States
ATTACH;FMTTYPE=image/jpeg:https://myisi.net/wp-content/uploads/2026/01/6a8e178f-c2b2-46c0-91e4-cb715cb46acc-e1768250618234.jpg
ORGANIZER;CN="MISI Community Solutions":MAILTO:office@myisi.net
END:VEVENT
BEGIN:VEVENT
DTSTART;TZID=America/Los_Angeles:20260205T140000
DTEND;TZID=America/Los_Angeles:20260205T153000
DTSTAMP:20260424T195653
CREATED:20251120T205021Z
LAST-MODIFIED:20251120T205021Z
UID:8311-1770300000-1770305400@myisi.net
SUMMARY:Navigating U.S. Benefits & Healthcare: Understanding SSI\, IHSS\, and Covered California
DESCRIPTION:
URL:https://myisi.net/event/navigating-u-s-benefits-healthcare-understanding-ssi-ihss-and-covered-california/
LOCATION:Online
ATTACH;FMTTYPE=image/jpeg:https://myisi.net/wp-content/uploads/2025/11/Health-and-Wellness-wIRC_Page_1-e1763671810337.jpg
ORGANIZER;CN="MISI Community Solutions":MAILTO:office@myisi.net
END:VEVENT
BEGIN:VEVENT
DTSTART;TZID=America/Los_Angeles:20260207T083000
DTEND;TZID=America/Los_Angeles:20260207T140000
DTSTAMP:20260424T195653
CREATED:20260209T194907Z
LAST-MODIFIED:20260209T195006Z
UID:8941-1770453000-1770472800@myisi.net
SUMMARY:100 Black Men of Sacramento 36th Annual Youth Conference
DESCRIPTION:
URL:https://myisi.net/event/100-black-men-of-sacramento-36th-annual-youth-conference/
LOCATION:Hiram Johnson High School\, 6879 14th Ave\, Sacramento\, CA\, 95820
ATTACH;FMTTYPE=image/jpeg:https://myisi.net/wp-content/uploads/2026/02/36th-Annual-Youth-Conference-2-e1770666597786.jpg
ORGANIZER;CN="100 Black Men of Sacramento":MAILTO:admin@100blackmensac.org
END:VEVENT
BEGIN:VEVENT
DTSTART;TZID=America/Los_Angeles:20260207T100000
DTEND;TZID=America/Los_Angeles:20260207T160000
DTSTAMP:20260424T195653
CREATED:20260112T211230Z
LAST-MODIFIED:20260112T211604Z
UID:8781-1770458400-1770480000@myisi.net
SUMMARY:29th Annual Chinese New Year GALA & Carnival
DESCRIPTION:
URL:https://myisi.net/event/29th-annual-chinese-new-year-gala-carnival/
LOCATION:Luther Burbank High School\, 3500 Florin Rd\, Sacramento\, CA\, 95823\, United States
ATTACH;FMTTYPE=image/png:https://myisi.net/wp-content/uploads/2026/01/image-10-e1768252342895.png
END:VEVENT
BEGIN:VEVENT
DTSTART;TZID=America/Los_Angeles:20260214T093000
DTEND;TZID=America/Los_Angeles:20260214T160000
DTSTAMP:20260424T195653
CREATED:20260112T210734Z
LAST-MODIFIED:20260115T184552Z
UID:8776-1771061400-1771084800@myisi.net
SUMMARY:Lunar New Year in Elk Grove
DESCRIPTION:
URL:https://myisi.net/event/lunar-new-year-in-elk-grove/
LOCATION:The Center at District56\, 8230 Civic Center Dr #100\, Elk Grove\, 95757\, United States
ATTACH;FMTTYPE=image/jpeg:https://myisi.net/wp-content/uploads/2026/01/image-e1768502660678.jpg
ORGANIZER;CN="MISI Community Solutions":MAILTO:office@myisi.net
END:VEVENT
BEGIN:VEVENT
DTSTART;TZID=America/Los_Angeles:20260217T103000
DTEND;TZID=America/Los_Angeles:20260217T133000
DTSTAMP:20260424T195653
CREATED:20260128T013039Z
LAST-MODIFIED:20260128T013039Z
UID:8889-1771324200-1771335000@myisi.net
SUMMARY:Midtown\, MISI Community Solutions Tabling at Emergency Food Distribution
DESCRIPTION:
URL:https://myisi.net/event/midtown-misi-community-solutions-tabling-at-emergency-food-distribution-4/
LOCATION:River City Food Bank\, 1800 28th St\, Sacramento\, 95816\, United States
ATTACH;FMTTYPE=image/jpeg:https://myisi.net/wp-content/uploads/2026/01/Emergency-Food-Distribution-Flyer-1-1-scaled-e1769563622824.jpg
END:VEVENT
BEGIN:VEVENT
DTSTART;TZID=America/Los_Angeles:20260219T090000
DTEND;TZID=America/Los_Angeles:20260219T163000
DTSTAMP:20260424T195653
CREATED:20260112T205604Z
LAST-MODIFIED:20260112T205604Z
UID:8767-1771491600-1771518600@myisi.net
SUMMARY:Sac Family Connect 2026 Summit
DESCRIPTION:
URL:https://myisi.net/event/sac-family-connect-2026-summit/
LOCATION:North Natomas Community Center\, 2631 New Market Dr\, Sacramento\, CA\, 95835\, United States
ATTACH;FMTTYPE=image/jpeg:https://myisi.net/wp-content/uploads/2026/01/WhatsApp-Image-2026-01-09-at-12.00.50-e1768251356159.jpeg
ORGANIZER;CN="MISI Community Solutions":MAILTO:office@myisi.net
END:VEVENT
BEGIN:VEVENT
DTSTART;TZID=America/Los_Angeles:20260220T103000
DTEND;TZID=America/Los_Angeles:20260220T133000
DTSTAMP:20260424T195653
CREATED:20260128T013547Z
LAST-MODIFIED:20260128T013547Z
UID:8897-1771583400-1771594200@myisi.net
SUMMARY:Arden\, MISI Community Solutions Tabling at Emergency Food Distribution
DESCRIPTION:
URL:https://myisi.net/event/arden-misi-community-solutions-tabling-at-emergency-food-distribution-4/
LOCATION:River City Food Bank: 2025 Fall Health & Resource Fair\, 2300 Edison Ave\, Sacramento\, CA\, 95821\, United States
ATTACH;FMTTYPE=image/jpeg:https://myisi.net/wp-content/uploads/2026/01/Emergency-Food-Distribution-Flyer-1-1-scaled-e1769563622824.jpg
END:VEVENT
BEGIN:VEVENT
DTSTART;TZID=America/Los_Angeles:20260226T093000
DTEND;TZID=America/Los_Angeles:20260226T133000
DTSTAMP:20260424T195653
CREATED:20260219T202108Z
LAST-MODIFIED:20260219T202108Z
UID:9037-1772098200-1772112600@myisi.net
SUMMARY:3d Annual Faith and Health Collaborative Summit
DESCRIPTION:
URL:https://myisi.net/event/3d-annual-faith-and-health-collaborative-summit/
LOCATION:Sierra Health Foundation\, 1321 Garden Highway\, Sacramento\, CA\, 95833\, United States
ATTACH;FMTTYPE=image/jpeg:https://myisi.net/wp-content/uploads/2026/02/rsz_1sol_feb_2026_luncheon_promo_flyer_final-eblast-e1771532463485.jpg
ORGANIZER;CN="Sierra Health Foundation":MAILTO:info@sierrahealth.org
END:VEVENT
BEGIN:VEVENT
DTSTART;TZID=America/Los_Angeles:20260305T120000
DTEND;TZID=America/Los_Angeles:20260305T140000
DTSTAMP:20260424T195653
CREATED:20260303T171413Z
LAST-MODIFIED:20260303T171413Z
UID:9120-1772712000-1772719200@myisi.net
SUMMARY:Garden Groundbreaking
DESCRIPTION:
URL:https://myisi.net/event/garden-groundbreaking/
LOCATION:South Sacramento Family Resource Center\, 4343 Williamsbourgh Dr\, Sacramento\, CA\, 95823\, United States
ATTACH;FMTTYPE=image/jpeg:https://myisi.net/wp-content/uploads/2026/03/Garden-Groundbreaking-3.5.26-e1772558039503.jpg
ORGANIZER;CN="Color The Block":MAILTO:mbrown@colortheblock.org
END:VEVENT
BEGIN:VEVENT
DTSTART;TZID=America/Los_Angeles:20260306T190000
DTEND;TZID=America/Los_Angeles:20260306T213000
DTSTAMP:20260424T195653
CREATED:20260225T225000Z
LAST-MODIFIED:20260225T230200Z
UID:9076-1772823600-1772832600@myisi.net
SUMMARY:Atmosphere for Miracles
DESCRIPTION:
URL:https://myisi.net/event/atmosphere-for-miracles/
LOCATION:Radiant Church\, 7801 Hazel Ave\, Orangevale\, CA\, 95662\, United States
ATTACH;FMTTYPE=image/png:https://myisi.net/wp-content/uploads/2026/02/AFM.png
ORGANIZER;CN="Flame of Fire Church":MAILTO:info@ffministry.com
END:VEVENT
BEGIN:VEVENT
DTSTART;TZID=America/Los_Angeles:20260307T100000
DTEND;TZID=America/Los_Angeles:20260307T140000
DTSTAMP:20260424T195653
CREATED:20260219T201519Z
LAST-MODIFIED:20260219T201519Z
UID:9035-1772877600-1772892000@myisi.net
SUMMARY:Annual Summit Youth Rise
DESCRIPTION:
URL:https://myisi.net/event/annual-summit-youth-rise/
LOCATION:Folsom Cordova Community Partnership\, 10665 Coloma Road\, Rancho Cordova\, CA\, 95670\, United States
ATTACH;FMTTYPE=image/jpeg:https://myisi.net/wp-content/uploads/2026/02/Job-Fair-and-Resource-Expo_Page_2-scaled-e1771532111836.jpg
ORGANIZER;CN="Folsom Cordova Community Partnership":MAILTO:info@theFCCP.org
END:VEVENT
BEGIN:VEVENT
DTSTART;TZID=America/Los_Angeles:20260307T140000
DTEND;TZID=America/Los_Angeles:20260307T160000
DTSTAMP:20260424T195653
CREATED:20260219T201052Z
LAST-MODIFIED:20260219T201052Z
UID:9029-1772892000-1772899200@myisi.net
SUMMARY:Job Fair and Resource Expo
DESCRIPTION:
URL:https://myisi.net/event/job-fair-and-resource-expo/
LOCATION:Hagan Community Park\, 2197 Chase Dr\, Rancho Cordova\, CA\, 95670\, United States
ATTACH;FMTTYPE=image/jpeg:https://myisi.net/wp-content/uploads/2026/02/Job-Fair-and-Resource-Expo_Page_1-e1771531838659.jpg
ORGANIZER;CN="Folsom Cordova Community Partnership":MAILTO:info@theFCCP.org
END:VEVENT
BEGIN:VEVENT
DTSTART;TZID=America/Los_Angeles:20260307T190000
DTEND;TZID=America/Los_Angeles:20260307T213000
DTSTAMP:20260424T195653
CREATED:20260225T225236Z
LAST-MODIFIED:20260225T225236Z
UID:9081-1772910000-1772919000@myisi.net
SUMMARY:Atmosphere for Miracles
DESCRIPTION:
URL:https://myisi.net/event/atmosphere-for-miracles-2/
LOCATION:Radiant Church\, 7801 Hazel Ave\, Orangevale\, CA\, 95662\, United States
ATTACH;FMTTYPE=image/png:https://myisi.net/wp-content/uploads/2026/02/AFM.png
ORGANIZER;CN="Flame of Fire Church":MAILTO:info@ffministry.com
END:VEVENT
END:VCALENDAR